BEGIN:VCALENDAR
PRODID:-//kirchenweb.ch gmbh//veranstaltungsausgabe v2.0//DE
VERSION:2.0
METHOD:PUBLISH
BEGIN:VEVENT
DTSTART:20260628T073000Z
DTEND:20260628T083000Z
LOCATION:Kirche Grossaffoltern\, \,
TRANSP:OPAQUE
SEQUENCE:0
UID:86198-veranstaltung@kirchenregion-aarberg.ch
DTSTAMP:20260113T160559Z
DESCRIPTION:Anschliessend findet ein Apéro mit Kuchen statt.\n\nKontakt:
  Judith Böttcher und Katechetin Theres\n\nWeitere Infos:
  https://www.kirchenregion-aarberg.ch/veranstaltung/86198
SUMMARY:Openair- und KUW-Gottesdienst
PRIORITY:5
X-MICROSOFT-CDO-IMPORTANCE:1
CLASS:PUBLIC
END:VEVENT
END:VCALENDAR
