BEGIN:VCALENDAR
PRODID:-//kirchenweb.ch gmbh//veranstaltungsausgabe v2.0//DE
VERSION:2.0
METHOD:PUBLISH
BEGIN:VEVENT
DTSTART:20260426T073000Z
DTEND:20260426T083000Z
LOCATION:Kirche Rapperswil \, \,
TRANSP:OPAQUE
SEQUENCE:0
UID:86922-veranstaltung@kirchenregion-aarberg.ch
DTSTAMP:20260423T064514Z
DESCRIPTION:Mit den Hiphop-Gruppen\, geleitet von SECRET DANCE Lyss\,
  begleitet von Katechetin Karin Christinat\, Pfarrerin Rahel Hofer und
  Organistin Erica Zimmermann und mit Taufe.\n\nTermine:\nProben jeweils
  23. Februar\, 2./9./16./23./30. März\, 20. April im Kirchgemeindehaus
  Rapperswil\n1.–3. Klasse jeweils Montag\, 17.10 – 18 Uhr\nab 4.
  Klasse jeweils Montag\, 18 – 18.50 Uhr\n\nHauptprobe am Samstag\, 25.
  April\, 9–10.15 Uhr in der Kirche Rapperswil\nAufführung am Sonntag\,
  26. April\, 9.30 Uhr in der Kirche Rapperswil\n\nKosten: Das Tanzprojekt
  kostet für 1 Kind Fr. 15.-\, für 2 Kinder Fr. 25.-\, ab 3 Kindern Fr.
  30.-\, je nach finanzieller Situation nach Absprache auch weniger. Bitte
  melden Sie sich vertraulich bei Ihrem Pfarramt! \nVersicherung ist Sache
  der Teilnehmenden.\n\nAnmeldung bis 20. Februar 2026. Bitte
  untenstehendes Anmeldeformular verwenden. Platzzahl ist beschränkt.\n
 \nEin Angebot der Kinder- und Jugendarbeit der Kirchgemeinden
  Grossaffoltern und Rapperswil-Wengi.\n\n\nKontakt: Pfarrerin Rahel Hofer
 \n\nWeitere Infos:
  https://www.kirchenregion-aarberg.ch/veranstaltung/86922
SUMMARY:Hiphop-Gottesdienst «Ufbräche»
PRIORITY:5
X-MICROSOFT-CDO-IMPORTANCE:1
CLASS:PUBLIC
END:VEVENT
END:VCALENDAR
