BEGIN:VCALENDAR
PRODID:-//kirchenweb.ch gmbh//veranstaltungsausgabe v2.0//DE
VERSION:2.0
METHOD:PUBLISH
BEGIN:VEVENT
DTSTART:20261108T083000Z
DTEND:20261108T093000Z
LOCATION:Kirche\, \,  Rapperswil
TRANSP:OPAQUE
SEQUENCE:0
UID:86957-veranstaltung@kirchenregion-aarberg.ch
DTSTAMP:20260417T074553Z
DESCRIPTION:Mit den Hiphop-Gruppen\, geleitet von SECRET DANCE Lyss.\n
 \nDanach gibt es Glühmost und Snacks.\n\nEin Angebot der Kinder- und
  Jugendarbeit der Kirchgemeinden Grossaffoltern und Rapperswil-Wengi.\n\n
 \nKontakt: Pfarrerin Lilian Fankhauser\n\nWeitere Infos:
  https://www.kirchenregion-aarberg.ch/veranstaltung/86957
SUMMARY:Hiphop-Gottesdienst «»
PRIORITY:5
X-MICROSOFT-CDO-IMPORTANCE:1
CLASS:PUBLIC
END:VEVENT
END:VCALENDAR
