BEGIN:VCALENDAR
PRODID:-//kirchenweb.ch gmbh//veranstaltungsausgabe v2.0//DE
VERSION:2.0
METHOD:PUBLISH
BEGIN:VEVENT
DTSTART:20260630T090000Z
DTEND:20260630T100000Z
LOCATION:Waldhütte Bürglen\, \,
TRANSP:OPAQUE
SEQUENCE:0
UID:87091-veranstaltung@kirchenregion-aarberg.ch
DTSTAMP:20260413T123619Z
DESCRIPTION:Ein Anlass der Kleeblatt-Kirchgemeinden Grossaffoltern\,
  Rapperswil-Wengi und Schüpfen.\n\nWir bilden Fahrgemeinschaften und
  fahren zur Waldhütte Bürglen zwischen Schüpfen und Ziegelried. Die
  Teilnahme mit Rollator und Rollstuhl ist möglich. \n\nTreffpunkt und
  Einsteigeorte:  \n10.30 Uhr bei den Kirchgemeindehäusern
  Grossaffoltern\, Rapperswil und Schüpfen oder beim Gemeindeplatz Wengi\n
 \nKosten: Fr. 20.-\n\nAnmelden bis 25. Juni:
  kontakt.sekretariat@kirche-schuepfen.ch\, 076 508 27 60 oder über
  Anmeldeformular hier unten.\nBitte mit folgenden Angaben: Name\,
  Adresse\, Telefonnummer\, Einsteigeort\, Hilfsmittel (Rollator und
  Rollstuhl).\n\nAuskunft: \n\nKontakt: Pfarrerin Susanna Leuenberger\,
  Schüpfen\, 031 879 11 30\n\nWeitere Infos:
  https://www.kirchenregion-aarberg.ch/veranstaltung/87091
SUMMARY:«Zäme gah brätle» plusminus70
PRIORITY:5
X-MICROSOFT-CDO-IMPORTANCE:1
CLASS:PUBLIC
END:VEVENT
END:VCALENDAR
