BEGIN:VCALENDAR
PRODID:-//kirchenweb.ch gmbh//veranstaltungsausgabe v2.0//DE
VERSION:2.0
METHOD:PUBLISH
BEGIN:VEVENT
DTSTART:20260502T080000Z
DTEND:20260502T140000Z
LOCATION:Seniorenzentrum Schüpfen\, \,
TRANSP:OPAQUE
SEQUENCE:0
UID:87183-veranstaltung@kirchenregion-aarberg.ch
DTSTAMP:20260220T145600Z
DESCRIPTION:Der Kurs «Letzte Hilfe» vermittelt Interessierten das
  Einmaleins der Sterbebegleitung.\n\nThema ist das Umsorgen von schwer
  erkrankten und sterbenden Menschen am Lebensende:\n• Was passiert beim
  Sterben?\n• Wann beginnt das Sterben?\n• Wie können wir als Laien
  unterstützen und begleiten?\n• Wo erhalten wir Hilfe?\n\nDer Kurs
  vermittelt Basiswissen und steht allen interessierten Erwachsenen offen.
 \n\nMitbringen: Je nachdem das Mittags-Picknick. Kaffee und Kuchen sind
  vorhanden. Wer will\, kann für Fr. 15.- ein Mittagsmenue bestellen.
  Bitte bei der Anmeldung vermerken.\n\nKosten: Der Kurs wird finanziert
  und angeboten von den Kleeblatt Kirchgemeinden Grossaffoltern\, Schüpfen
  und Rapperswil-Wengi und dem Seniorenrat.\n\nAnmelden: bis    April über
  www.senioreninfo-grs.ch oder bei der Altersbeauftragten Melanie
  Mazenauer\, 076 202 04 69\, melanie.mazenauer@senioreninfo-grs.ch.
  Platzzahl begrenzt.\n\nKontakt:
  cornelia.rychen@kirche-rapperswil-wengi.ch\n\nWeitere Infos:
  https://www.kirchenregion-aarberg.ch/veranstaltung/87183
SUMMARY:Kurs «Letzte Hilfe»
PRIORITY:5
X-MICROSOFT-CDO-IMPORTANCE:1
CLASS:PUBLIC
END:VEVENT
END:VCALENDAR
