BEGIN:VCALENDAR
PRODID:-//kirchenweb.ch gmbh//veranstaltungsausgabe v2.0//DE
VERSION:2.0
METHOD:PUBLISH
BEGIN:VEVENT
DTSTART:20260529T150000Z
DTEND:20260529T160000Z
LOCATION:Kirche Grossaffoltern\, Dorfstrasse 19\, 3257 Grossaffoltern
TRANSP:OPAQUE
SEQUENCE:0
UID:88412-veranstaltung@kirchenregion-aarberg.ch
DTSTAMP:20260220T075820Z
DESCRIPTION:Kinder im Alter von ungefähr 0 bis 7 Jahren sind herzlich
  willkommen\, mit oder ohne Begleitperson(en).\n\nKontakt: Judith
  Böttcher\, 077 / 417 74 43\n\nWeitere Infos:
  https://www.kirchenregion-aarberg.ch/veranstaltung/88412
SUMMARY:Kindergottesdienst
PRIORITY:5
X-MICROSOFT-CDO-IMPORTANCE:1
CLASS:PUBLIC
END:VEVENT
END:VCALENDAR
