BEGIN:VCALENDAR
PRODID:-//kirchenweb.ch gmbh//veranstaltungsausgabe v2.0//DE
VERSION:2.0
METHOD:PUBLISH
BEGIN:VEVENT
DTSTART:20260521T070000Z
DTEND:20260521T090000Z
LOCATION:Kirchgemeindehaus\, Dorfstrasse 19\, 3257 Grossaffoltern
TRANSP:OPAQUE
SEQUENCE:0
UID:88417-veranstaltung@kirchenregion-aarberg.ch
DTSTAMP:20251209T130437Z
DESCRIPTION:Willst Du Familien mit Kleinkindern kennenlernen und
  gemütlich mit anderen Eltern plaudern? \n\nGenau dafür ist unser Treff
  da. Die Kleinen können liegen\, krabbeln und spielen. Gleichzeitig
  findet die Mütter- und Väterberatung statt. für Kaffee\, Tee und ein
  kleines Znüni ist gesorgt. Wir freuen uns!\n\nKontakt: Joanna
  Osterwalder\, 079 628 29 24\nEsther Gilgen\, 079 232 75 60\n\nWeitere
  Infos: https://www.kirchenregion-aarberg.ch/veranstaltung/88417
SUMMARY:Zwärgli-Träff
PRIORITY:5
X-MICROSOFT-CDO-IMPORTANCE:1
CLASS:PUBLIC
END:VEVENT
END:VCALENDAR
