BEGIN:VCALENDAR
PRODID:-//kirchenweb.ch gmbh//veranstaltungsausgabe v2.0//DE
VERSION:2.0
METHOD:PUBLISH
BEGIN:VEVENT
DTSTART:20260904T064500Z
DTEND:20260904T073000Z
LOCATION:Kirchgemeindehaus Grossaffoltern\, Dorfstrasse 19\, 3257
  Grossaffoltern
TRANSP:OPAQUE
SEQUENCE:0
UID:88425-veranstaltung@kirchenregion-aarberg.ch
DTSTAMP:20260220T075454Z
DESCRIPTION:Im achtsamen Dasein und in der Stille üben wir uns in der
  Meditation. Eine kurze Einführung in die Meditationspraxis\, eine
  Körpermeditation\, ein Textimpuls und 20 Minuten Stille runden die
  Meditationszeit ab.\n\nJeden 1. Freitag im Monat um 8.45 Uhr im
  Kirchgemeindehaus Grossaffoltern.\n\nKontakt: Pfrn. Regula Remund\n
 \nWeitere Infos: https://www.kirchenregion-aarberg.ch/veranstaltung/88425
SUMMARY:Kraft der Stille
PRIORITY:5
X-MICROSOFT-CDO-IMPORTANCE:1
CLASS:PUBLIC
END:VEVENT
END:VCALENDAR
