BEGIN:VCALENDAR
PRODID:-//kirchenweb.ch gmbh//veranstaltungsausgabe v2.0//DE
VERSION:2.0
METHOD:PUBLISH
BEGIN:VEVENT
DTSTART:20261106T074500Z
DTEND:20261106T083000Z
LOCATION:Kirchgemeindehaus Grossaffoltern\, Dorfstrasse 19\, 3257
  Grossaffoltern
TRANSP:OPAQUE
SEQUENCE:0
UID:88426-veranstaltung@kirchenregion-aarberg.ch
DTSTAMP:20260220T075459Z
DESCRIPTION:Im achtsamen Dasein und in der Stille üben wir uns in der
  Meditation. Eine kurze Einführung in die Meditationspraxis\, eine
  Körpermeditation\, ein Textimpuls und 20 Minuten Stille runden die
  Meditationszeit ab.\n\nJeden 1. Freitag im Monat um 8.45 Uhr im
  Kirchgemeindehaus Grossaffoltern.\n\nKontakt: Pfrn. Regula Remund\n
 \nWeitere Infos: https://www.kirchenregion-aarberg.ch/veranstaltung/88426
SUMMARY:Kraft der Stille
PRIORITY:5
X-MICROSOFT-CDO-IMPORTANCE:1
CLASS:PUBLIC
END:VEVENT
END:VCALENDAR
