BEGIN:VCALENDAR
PRODID:-//kirchenweb.ch gmbh//veranstaltungsausgabe v2.0//DE
VERSION:2.0
METHOD:PUBLISH
BEGIN:VEVENT
DTSTART:20260415T120000Z
DTEND:20260415T130000Z
LOCATION:Kirchgemeindehaus\, Dorfstrasse 19\, 3257 Grossaffoltern
TRANSP:OPAQUE
SEQUENCE:0
UID:88429-veranstaltung@kirchenregion-aarberg.ch
DTSTAMP:20251209T132155Z
DESCRIPTION:Anmeldung bis 13. April bei Sarah Blank unter 079 345 58 92.\n
 \nKontakt: Sarah Blank\, Tel. 079 345 58 92\n\nWeitere Infos:
  https://www.kirchenregion-aarberg.ch/veranstaltung/88429
SUMMARY:Nachmittagstreffen - Lotto und Pastetli
PRIORITY:5
X-MICROSOFT-CDO-IMPORTANCE:1
CLASS:PUBLIC
END:VEVENT
END:VCALENDAR
