BEGIN:VCALENDAR
PRODID:-//kirchenweb.ch gmbh//veranstaltungsausgabe v2.0//DE
VERSION:2.0
METHOD:PUBLISH
BEGIN:VEVENT
DTSTART:20261021T120000Z
DTEND:20261021T130000Z
LOCATION:Kirchgemeindehaus\, Dorfstrasse 19\, 3257 Grossaffoltern
TRANSP:OPAQUE
SEQUENCE:0
UID:88432-veranstaltung@kirchenregion-aarberg.ch
DTSTAMP:20251211T081747Z
DESCRIPTION:Anmeldung bis 19. Oktober bei Sarah Blank unter 079 345 58 92.
 \n\nKontakt: Sarah Blank\, Tel. 079 345 58 92\n\nWeitere Infos:
  https://www.kirchenregion-aarberg.ch/veranstaltung/88432
SUMMARY:Nachmittagstreffen - musikalischer Nachmittag
PRIORITY:5
X-MICROSOFT-CDO-IMPORTANCE:1
CLASS:PUBLIC
END:VEVENT
END:VCALENDAR
