BEGIN:VCALENDAR
PRODID:-//kirchenweb.ch gmbh//veranstaltungsausgabe v2.0//DE
VERSION:2.0
METHOD:PUBLISH
BEGIN:VEVENT
DTSTART:20260417T073000Z
DTEND:20260417T090000Z
LOCATION:Kirche Grossaffoltern\, \,
TRANSP:OPAQUE
SEQUENCE:0
UID:88780-veranstaltung@kirchenregion-aarberg.ch
DTSTAMP:20260220T075541Z
DESCRIPTION:Kaffeehöck im Foyer des Kirchgemeindehauses\n\n\n\nKontakt:
  Pfrn. Regula Remund 031 879 11 44\n\nWeitere Infos:
  https://www.kirchenregion-aarberg.ch/veranstaltung/88780
SUMMARY:Zäme unterwägs – Kaffeehöck
PRIORITY:5
X-MICROSOFT-CDO-IMPORTANCE:1
CLASS:PUBLIC
END:VEVENT
END:VCALENDAR
