BEGIN:VCALENDAR
PRODID:-//kirchenweb.ch gmbh//veranstaltungsausgabe v2.0//DE
VERSION:2.0
METHOD:PUBLISH
BEGIN:VEVENT
DTSTART:20260619T073000Z
DTEND:20260619T090000Z
LOCATION:Kirchgemeindehaus Grossaffoltern\, \,
TRANSP:OPAQUE
SEQUENCE:0
UID:88794-veranstaltung@kirchenregion-aarberg.ch
DTSTAMP:20260220T075558Z
DESCRIPTION:Gemeinsames Lesen «shared reading» im Foyer des
  Kirchgemeindehauses.\n\n\n\nKontakt: Pfrn. Regula Remund 031 879 11 44\n
 \nWeitere Infos: https://www.kirchenregion-aarberg.ch/veranstaltung/88794
SUMMARY:Zäme unterwägs – Shared reading mit Antje Ingen Housz
PRIORITY:5
X-MICROSOFT-CDO-IMPORTANCE:1
CLASS:PUBLIC
END:VEVENT
END:VCALENDAR
