BEGIN:VCALENDAR
PRODID:-//kirchenweb.ch gmbh//veranstaltungsausgabe v2.0//DE
VERSION:2.0
METHOD:PUBLISH
BEGIN:VEVENT
DTSTART:20260503T073000Z
DTEND:20260503T083000Z
LOCATION:Kirche Grossaffoltern\, Dorfstrasse 19\, 3257 Grossaffoltern
TRANSP:OPAQUE
SEQUENCE:0
UID:88880-veranstaltung@kirchenregion-aarberg.ch
DTSTAMP:20260410T074848Z
DESCRIPTION:Anschliessend findet ein Kirchenkaffee statt.\n\nKontakt: 032
  389 14 24\n\nWeitere Infos:
  https://www.kirchenregion-aarberg.ch/veranstaltung/88880
SUMMARY:Gottesdienst mit Taufmöglichkeit
PRIORITY:5
X-MICROSOFT-CDO-IMPORTANCE:1
CLASS:PUBLIC
END:VEVENT
END:VCALENDAR
