BEGIN:VCALENDAR
PRODID:-//kirchenweb.ch gmbh//veranstaltungsausgabe v2.0//DE
VERSION:2.0
METHOD:PUBLISH
BEGIN:VEVENT
DTSTART:20260514T081500Z
DTEND:20260514T091500Z
LOCATION:Kloster Frienisberg\, Bernstrasse 133\,  Seedorf
TRANSP:OPAQUE
SEQUENCE:0
UID:88882-veranstaltung@kirchenregion-aarberg.ch
DTSTAMP:20260413T115127Z
DESCRIPTION:Begleitung durch Pfrn. Susanna Leuenberger\, Schüpfen\, Pfrn.
  Regula Remund\, Grossaffoltern und Katharina Beidler\, Klavier.\n
 \nBesammlung 9.00 Uhr auf dem Kirchenparkplatz Grossaffoltern.\nBesammlung
  9.15 Uhr auf dem Kirchenparkplatz Schüpfen.\n\nFahrt nach Saurenhorn\,
  Spaziergang oder Fahrt zum Kloster.\n\nLieder und Texte im Parlatorium\,
  anschliessend Kaffeekränzchen.\n\nAm Mittag Rückfahrt oder Rückmarsch.
 \n\n\nKontakt: anita.kreuz@kirche-grossaffoltern.ch\n\nWeitere Infos:
  https://www.kirchenregion-aarberg.ch/veranstaltung/88882
SUMMARY:Regiogottesdienst zu Auffahrt im Kloster Frienisberg
PRIORITY:5
X-MICROSOFT-CDO-IMPORTANCE:1
CLASS:PUBLIC
END:VEVENT
END:VCALENDAR
