BEGIN:VCALENDAR
PRODID:-//kirchenweb.ch gmbh//veranstaltungsausgabe v2.0//DE
VERSION:2.0
METHOD:PUBLISH
BEGIN:VEVENT
DTSTART;VALUE=DATE:20260531
DTEND;VALUE=DATE:20260601
LOCATION:\, Dorfstrasse 19\, 3257 Grossaffoltern
TRANSP:OPAQUE
SEQUENCE:0
UID:88885-veranstaltung@kirchenregion-aarberg.ch
DTSTAMP:20251217T133037Z
DESCRIPTION:In Grossaffoltern findet kein Gottesdienst statt. Wir
  verweisen auf das Angebot in unseren Nachbargemeinden.\n\nKontakt:
  anita.kreuz@kirche-grossaffoltern.ch\n\nWeitere Infos:
  https://www.kirchenregion-aarberg.ch/veranstaltung/88885
SUMMARY:Kein Gottesdienst in Grossaffoltern
PRIORITY:5
X-MICROSOFT-CDO-IMPORTANCE:1
CLASS:PUBLIC
END:VEVENT
END:VCALENDAR
