BEGIN:VCALENDAR
PRODID:-//kirchenweb.ch gmbh//veranstaltungsausgabe v2.0//DE
VERSION:2.0
METHOD:PUBLISH
BEGIN:VEVENT
DTSTART:20260705T073000Z
DTEND:20260705T083000Z
LOCATION:Kirche Grossaffoltern\, Dorfstrasse 19\, 3257 Grossaffoltern
TRANSP:OPAQUE
SEQUENCE:0
UID:88887-veranstaltung@kirchenregion-aarberg.ch
DTSTAMP:20251222T115549Z
DESCRIPTION:Anschliessend findet ein Kirchenkaffee statt.\n\nKontakt: 032
  389 14 24\n\nWeitere Infos:
  https://www.kirchenregion-aarberg.ch/veranstaltung/88887
SUMMARY:Gottesdienst mit Taufmöglichkeit
PRIORITY:5
X-MICROSOFT-CDO-IMPORTANCE:1
CLASS:PUBLIC
END:VEVENT
END:VCALENDAR
