BEGIN:VCALENDAR
PRODID:-//kirchenweb.ch gmbh//veranstaltungsausgabe v2.0//DE
VERSION:2.0
METHOD:PUBLISH
BEGIN:VEVENT
DTSTART:20260802T073000Z
DTEND:20260802T083000Z
LOCATION:Kirche Grossaffoltern\, Dorfstrasse 19\, 3257 Grossaffoltern
TRANSP:OPAQUE
SEQUENCE:0
UID:88891-veranstaltung@kirchenregion-aarberg.ch
DTSTAMP:20251217T134627Z
DESCRIPTION:Anschliessend findet ein Kirchenkaffee statt.\n\nKontakt: Tel.
  032 389 52 33\n\nWeitere Infos:
  https://www.kirchenregion-aarberg.ch/veranstaltung/88891
SUMMARY:«Zu Gast in Grossaffoltern»
PRIORITY:5
X-MICROSOFT-CDO-IMPORTANCE:1
CLASS:PUBLIC
END:VEVENT
END:VCALENDAR
