BEGIN:VCALENDAR
PRODID:-//kirchenweb.ch gmbh//veranstaltungsausgabe v2.0//DE
VERSION:2.0
METHOD:PUBLISH
BEGIN:VEVENT
DTSTART:20260809T083000Z
DTEND:20260809T093000Z
LOCATION:Wald beim Gäuhof\, \, 3257 Grossaffoltern
TRANSP:OPAQUE
SEQUENCE:0
UID:88892-veranstaltung@kirchenregion-aarberg.ch
DTSTAMP:20260113T163049Z
DESCRIPTION:Kontakt: 032 389 14 24\n\nWeitere Infos:
  https://www.kirchenregion-aarberg.ch/veranstaltung/88892
SUMMARY:Waldgottesdienst mit Taufmöglichkeit
PRIORITY:5
X-MICROSOFT-CDO-IMPORTANCE:1
CLASS:PUBLIC
END:VEVENT
END:VCALENDAR
