BEGIN:VCALENDAR
PRODID:-//kirchenweb.ch gmbh//veranstaltungsausgabe v2.0//DE
VERSION:2.0
METHOD:PUBLISH
BEGIN:VEVENT
DTSTART:20261011T073000Z
DTEND:20261011T083000Z
LOCATION:Kirche Grossaffoltern\, Dorfstrasse 19\, 3257 Grossaffoltern
TRANSP:OPAQUE
SEQUENCE:0
UID:88901-veranstaltung@kirchenregion-aarberg.ch
DTSTAMP:20251217T140131Z
DESCRIPTION:Die Landfrauen schmücken die Kirche und offerieren im
  Anschluss an den Gottesdienst ein Apéro.\n\nKontakt: Tel. 032 389 52 33
 \n\nWeitere Infos:
  https://www.kirchenregion-aarberg.ch/veranstaltung/88901
SUMMARY:Erntedank-Gottesdienst mit Taufmöglichkeit
PRIORITY:5
X-MICROSOFT-CDO-IMPORTANCE:1
CLASS:PUBLIC
END:VEVENT
END:VCALENDAR
