BEGIN:VCALENDAR
PRODID:-//kirchenweb.ch gmbh//veranstaltungsausgabe v2.0//DE
VERSION:2.0
METHOD:PUBLISH
BEGIN:VEVENT
DTSTART:20261122T083000Z
DTEND:20261122T093000Z
LOCATION:Kirche Grossaffoltern\, Dorfstrasse 19\, 3257 Grossaffoltern
TRANSP:OPAQUE
SEQUENCE:0
UID:88908-veranstaltung@kirchenregion-aarberg.ch
DTSTAMP:20251217T141335Z
DESCRIPTION:Mit anschliessendem Gang auf den Friedhof.\n\nKontakt: Tel.
  032 389 52 33\n\nWeitere Infos:
  https://www.kirchenregion-aarberg.ch/veranstaltung/88908
SUMMARY:Ewigkeitssonntag
PRIORITY:5
X-MICROSOFT-CDO-IMPORTANCE:1
CLASS:PUBLIC
END:VEVENT
END:VCALENDAR
