BEGIN:VCALENDAR
PRODID:-//kirchenweb.ch gmbh//veranstaltungsausgabe v2.0//DE
VERSION:2.0
METHOD:PUBLISH
BEGIN:VEVENT
DTSTART:20261129T160000Z
DTEND:20261129T170000Z
LOCATION:Kirche Grossaffoltern\, Dorfstrasse 19\, 3257 Grossaffoltern
TRANSP:OPAQUE
SEQUENCE:0
UID:88909-veranstaltung@kirchenregion-aarberg.ch
DTSTAMP:20251217T153410Z
DESCRIPTION:Offenes Singen mit Organist Manuel Niethammer und
  Unterstützung des Singkreises Grossaffoltern. Anschliessend gemeinsames
  Zusammensein bei Punsch und Guetzli.\n\nKontakt: 032 389 14 24\n\nWeitere
  Infos: https://www.kirchenregion-aarberg.ch/veranstaltung/88909
SUMMARY:Gottesdienst zum 1. Advent
PRIORITY:5
X-MICROSOFT-CDO-IMPORTANCE:1
CLASS:PUBLIC
END:VEVENT
END:VCALENDAR
