BEGIN:VCALENDAR
PRODID:-//kirchenweb.ch gmbh//veranstaltungsausgabe v2.0//DE
VERSION:2.0
METHOD:PUBLISH
BEGIN:VEVENT
DTSTART:20261101T090000Z
DTEND:20261101T100000Z
LOCATION:Kirche Schüpfen\, Dorfstrasse 15\, 3054 Schüpfen
TRANSP:OPAQUE
SEQUENCE:0
UID:88978-veranstaltung@kirchenregion-aarberg.ch
DTSTAMP:20260216T084019Z
DESCRIPTION:mit "Ädu dr Trubädur". Gemeinsamer Gottesdienst der
  Kirchgemeinden Grossaffoltern\, Rapperswil-Wengi und Schüpfen in
  Schüpfen. Pfrn. S. Leuenberger\, Schüpfen und Pfrn. L. Fankhauser\,
  Rapperswil-Wengi.\nDie Kollekte wird vom Synodalrat bestimmt.\n\nKontakt:
  redaktion.schuepfen@kirche-schuepfen.ch\n\nWeitere Infos:
  https://www.kirchenregion-aarberg.ch/veranstaltung/88978
SUMMARY:Visionssonntag Regio-Gottesdienst
PRIORITY:5
X-MICROSOFT-CDO-IMPORTANCE:1
CLASS:PUBLIC
END:VEVENT
END:VCALENDAR
