BEGIN:VCALENDAR
PRODID:-//kirchenweb.ch gmbh//veranstaltungsausgabe v2.0//DE
VERSION:2.0
METHOD:PUBLISH
BEGIN:VEVENT
DTSTART:20260806T120000Z
DTEND:20260806T150000Z
LOCATION:Wald Grossaffoltern\, \,
TRANSP:OPAQUE
SEQUENCE:0
UID:89575-veranstaltung@kirchenregion-aarberg.ch
DTSTAMP:20260112T104508Z
DESCRIPTION:Zusammen verbringen wir drei märchenhafte Waldnachmittage mit
  Geschichten\, Spielen und Abenteuern.\nFür Kinder ab dem Kindergarten
  bis zur 4. Klasse.\n\nKontakt:\nPfarrerin Judith Böttcher und Karin
  Kirchhofer\n\nAnmeldung bis spätestens 1. Juli 2025 bei
 \nJudith.boettcher@kirche-grossaffoltern.ch oder 077 417 7443\n\nKontakt:
  anita.kreuz@kirche-grossaffoltern.ch\n\nWeitere Infos:
  https://www.kirchenregion-aarberg.ch/veranstaltung/89575
SUMMARY:Waldtage
PRIORITY:5
X-MICROSOFT-CDO-IMPORTANCE:1
CLASS:PUBLIC
END:VEVENT
END:VCALENDAR
