BEGIN:VCALENDAR
PRODID:-//kirchenweb.ch gmbh//veranstaltungsausgabe v2.0//DE
VERSION:2.0
METHOD:PUBLISH
BEGIN:VEVENT
DTSTART:20260408T063000Z
DTEND:20260408T143000Z
LOCATION:Bern\, \,
TRANSP:OPAQUE
SEQUENCE:0
UID:91204-veranstaltung@kirchenregion-aarberg.ch
DTSTAMP:20260326T145032Z
DESCRIPTION:Wir fahren nach Bern! Dort tauchen wir ein in das Leben von
  Jacob Baltzli\, der vor 500 Jahren lebte und lösen einige Rätsel.
  Später fahren wir ins Dählhölzli\, wo wir uns auf dem Spielplatz
  austoben und vielleicht junge Tiere sehen können. Bitte nehmt ein
  Picknick und genügend Getränke sowie Regen- und Sonnenschutz mit!\n
 \nWir treffen uns um 8.30 Uhr im Kirchgemeindehaus und beenden den Ausflug
  auch dort um 16.30 Uhr.\n\n(Der Ausflug findet nur bei einer
  Mindestbeteiligung von 5 Kindern statt.)\n\nAuf euer Kommen freuen sich
  Anna Amstutz und Theres Gerber.\n\nKontakt:
  anita.kreuz@kirche-grossaffoltern.ch\n\nWeitere Infos:
  https://www.kirchenregion-aarberg.ch/veranstaltung/91204
SUMMARY:Ausflug ins Blaue
PRIORITY:5
X-MICROSOFT-CDO-IMPORTANCE:1
CLASS:PUBLIC
END:VEVENT
END:VCALENDAR
